BEGIN:VCALENDAR
VERSION:2.0
PRODID:-//Plone.org//NONSGML plone.app.event//EN
X-WR-TIMEZONE:Europe/Berlin
BEGIN:VEVENT
SUMMARY:Film Screening & Conversation: PARIS IS BURNING
DTSTART;TZID=Europe/Berlin:20231123T200000
DTEND;TZID=Europe/Berlin:20231123T223000
DTSTAMP:20260421T072017Z
UID:58b179dc53f24717ba5a04673abc70ce@www.dependency.uni-bonn.de
CATEGORIES:Event
CREATED:20231109T124937Z
DESCRIPTION:Don’t miss our third and last film screening this year in co
 operation with Kino in der Brotfabrik: PARIS IS BURNING\, a landmark docum
 entary from 1990 by Jennie Livingston (USA).\n\nDocumenting the queer “B
 allroom Culture” in New York City in the 1980s\, this groundbreaking mov
 ie depicts Latinx and Black queer and transgender communities.\n\nIt explo
 res their struggles with multiple forms of discrimination regarding their 
 race\, class\, gender\, sexual identity long before concepts such as gende
 r fluidity or intersectionality were discussed in society.\n \nStay on aft
 er the screening and join the conversion and get-together with free drinks
 /nibbles!\n \nBCDSS Professor Julia Hillner will give a short introduction
  on the BCDSS’ thematic year with a research focus on Gender (and Inters
 ectionality).\n\nFörderverein Filmkultur\, the Queer-Referat (AStA Uni Bo
 nn) and BCDSS Professor Pia Wiegmink will kickstart the post-screening con
 versation.
LAST-MODIFIED:20250905T225423Z
URL:https://www.dependency.uni-bonn.de/en/events/film-screening-conversati
 on-paris-is-burning
END:VEVENT
BEGIN:VTIMEZONE
TZID:Europe/Berlin
X-LIC-LOCATION:Europe/Berlin
BEGIN:STANDARD
DTSTART:20231029T020000
TZNAME:CET
TZOFFSETFROM:+0200
TZOFFSETTO:+0100
END:STANDARD
END:VTIMEZONE
END:VCALENDAR
