BEGIN:VCALENDAR
VERSION:2.0
PRODID:-//Plone.org//NONSGML plone.app.event//EN
X-WR-TIMEZONE:Europe/Berlin
BEGIN:VEVENT
SUMMARY:Film Screening & Discussion: THE EMPTY GRAVE / 'DAS LEERE GRAB'
DTSTART;TZID=Europe/Berlin:20240704T200000
DTSTAMP:20260423T020216Z
UID:c513666852034d8c88566492882b3e41@www.dependency.uni-bonn.de
CATEGORIES:Event,Film,Discussion
CREATED:20240617T124355Z
DESCRIPTION:We are carrying on with the "WHO'S GOT THE POWER?" series in c
 ooperation with Förderverein Filmkultur at Brotfabrik\, Bonn!\n\nOur seco
 nd film this year\, THE EMPTY GRAVE (original: 'DAS LEERE GRAB')\, a Germa
 n-Tanzanian co-production by Agnes Lisa Wegner and Cece Mlay\, was launche
 d at the Berlinale Film Festival earlier this year. It addresses the legac
 y of the German colonial rule in Tanzania: the search for the physical rem
 ains of family members\, the intergenerational trauma\, the quest for just
 ice\, the question of any future coexistence.\n\nEveryone is warmly welcom
 e to join us for the post-screening talk and reception with drinks and fin
 gerfood in the informal setting of Studio 5.\n\nOn the panel representing 
 the BCDSS:\n\nMary Aderonke Afolabi-Adeolu\, PhD Researcher\nBoluwatife Ak
 inro\, PhD Researcher\nDr. Mercy Mashingaidze\, Postdoctoral Researcher & 
 Lecturer
LAST-MODIFIED:20250905T225427Z
URL:https://www.dependency.uni-bonn.de/en/events/film-screening-discussion
 -das-leere-grab
END:VEVENT
BEGIN:VTIMEZONE
TZID:Europe/Berlin
X-LIC-LOCATION:Europe/Berlin
BEGIN:DAYLIGHT
DTSTART:20240331T030000
TZNAME:CEST
TZOFFSETFROM:+0100
TZOFFSETTO:+0200
END:DAYLIGHT
END:VTIMEZONE
END:VCALENDAR
