BEGIN:VCALENDAR
VERSION:2.0
PRODID:-//Plone.org//NONSGML plone.app.event//EN
X-WR-TIMEZONE:Europe/Berlin
BEGIN:VEVENT
SUMMARY:International Workshop on “Islamic Feminisms and Dependency”
DTSTART;TZID=Europe/Berlin:20240307T130000
DTEND;TZID=Europe/Berlin:20240307T163000
DTSTAMP:20260419T205424Z
UID:4c62ffeb43b948c9963a5af1a2b6ac4f@www.dependency.uni-bonn.de
CREATED:20240304T104235Z
DESCRIPTION:This workshop is part of a two-day event series jointly organi
 zed by the Bonn Center for Dependency and Slavery Studies (BCDSS) and the 
 Center for Development Research (ZEF) at the University of Bonn.\nThe "Isl
 amic Feminisms and Dependency" workshop delves into the intersection of ge
 nder\, war\, and modern Arabic literature\, with a focus on Islamic femini
 sm and highlights Prof. Cooke's exploration of "multiple critique" within 
 Islamic feminism\, relevant to asymmetrical dependency research. Pre-circu
 lated readings include excerpts from "Women Claim Islam" and an article on
  "Hijab Activism." Discussions and a coffee break are included in the prog
 ram.\nIn essence\, the workshop initiates discussions on the relationship 
 between Islamic feminist thought\, intersectionality\, and asymmetrical de
 pendency research.
LAST-MODIFIED:20250905T225424Z
URL:https://www.dependency.uni-bonn.de/en/events/international-workshop-on
 -201cislamic-feminisms-and-dependency201d
END:VEVENT
BEGIN:VTIMEZONE
TZID:Europe/Berlin
X-LIC-LOCATION:Europe/Berlin
BEGIN:STANDARD
DTSTART:20231029T020000
TZNAME:CET
TZOFFSETFROM:+0200
TZOFFSETTO:+0100
END:STANDARD
END:VTIMEZONE
END:VCALENDAR
