BEGIN:VCALENDAR
VERSION:2.0
PRODID:-//Plone.org//NONSGML plone.app.event//EN
X-WR-TIMEZONE:Europe/Berlin
BEGIN:VEVENT
SUMMARY:Intersecting Subjections in South Asian Pasts
DTSTART;TZID=Europe/Berlin:20250505T170000
DTEND;TZID=Europe/Berlin:20250505T200000
DTSTAMP:20260421T160524Z
UID:2734cf3089124036ad7416af44363f2c@www.dependency.uni-bonn.de
CATEGORIES:Event,Events
CREATED:20250331T103556Z
DESCRIPTION:We are pleased to invite you to a keynote lecture by Indrani C
 hatterjee from the University of Virginia as part of the conference Strong
  Asymmetrical Dependencies: Perspectives from Asia\, Past & Present.\nChat
 terjee’s lecture\, titled "Intersecting Subjections in South Asian Pasts
 \," will begin with an introduction by Dr. Emma Kalb and will be followed 
 by a reception at 18:00 CET.\n\nPlease send an email to asiaconference@dep
 endency.uni-bonn.de in order to register for the event.
LAST-MODIFIED:20250905T225434Z
URL:https://www.dependency.uni-bonn.de/en/events/intersecting-subjections-
 in-south-asian-pasts
END:VEVENT
BEGIN:VTIMEZONE
TZID:Europe/Berlin
X-LIC-LOCATION:Europe/Berlin
BEGIN:DAYLIGHT
DTSTART:20250330T030000
TZNAME:CEST
TZOFFSETFROM:+0100
TZOFFSETTO:+0200
END:DAYLIGHT
END:VTIMEZONE
END:VCALENDAR
