BEGIN:VCALENDAR
VERSION:2.0
PRODID:-//Plone.org//NONSGML plone.app.event//EN
X-WR-TIMEZONE:Europe/Berlin
BEGIN:VEVENT
SUMMARY:Joseph C. Miller Memorial Lecture by Phil Withington
DTSTART;TZID=Europe/Berlin:20250714T161500
DTEND;TZID=Europe/Berlin:20250714T174500
DTSTAMP:20260422T214558Z
UID:224a4b7997544bcba20784b695b36f59@www.dependency.uni-bonn.de
CATEGORIES:Event,Events,JCMML
CREATED:20250625T084901Z
DESCRIPTION:This lecture uses a range of printed materials and analytical 
 methods to address the vocabulary of slavery in England during the long se
 venteenth century and traces what was an important process of vernacularis
 ation. Moreover\, it aims at identifying the kinds of socio-economic\, gen
 dered relations and tensions\, that the language of slavery was used to ch
 aracterise\, as well as the semantic stability (or not) of the vocabulary 
 over time. In so doing\, the lecture also begins to assess the impact of c
 olonial developments on vernacular discussions of the social order: not le
 ast the institutionalisation of indentured service and racist chattel slav
 ery in the Caribbean and American seaboard.
LAST-MODIFIED:20250905T225006Z
URL:https://www.dependency.uni-bonn.de/en/events/joseph-c-miller-memorial-
 lecture-by-phil-withington
END:VEVENT
BEGIN:VTIMEZONE
TZID:Europe/Berlin
X-LIC-LOCATION:Europe/Berlin
BEGIN:DAYLIGHT
DTSTART:20250330T030000
TZNAME:CEST
TZOFFSETFROM:+0100
TZOFFSETTO:+0200
END:DAYLIGHT
END:VTIMEZONE
END:VCALENDAR
