BEGIN:VCALENDAR
VERSION:2.0
PRODID:-//Plone.org//NONSGML plone.app.event//EN
X-WR-TIMEZONE:Europe/Berlin
BEGIN:VEVENT
SUMMARY:Joseph C. Miller Memorial Lecture by Roy Flechne
DTSTART;TZID=Europe/Berlin:20240108T161500
DTEND;TZID=Europe/Berlin:20240108T180000
DTSTAMP:20260420T020753Z
UID:4d6fba3de4464568abe0a5673fabbff2@www.dependency.uni-bonn.de
CREATED:20240108T093656Z
DESCRIPTION:What moral principles guided Pope Gregory the Great (590–604
 )'s policy and how did he integrate them into his role as supreme manager 
 of the papal patrimonies (i.e. papal lands) and their workforce? What is t
 he meaning of "moral economy"\, and how can the pope's policies help us un
 derstand this concept? Roy Flechnerw who lectures on the history of the fi
 rst millennium AD at University College Dublin will shed light on these qu
 estions during his JCMM lecture today.
LAST-MODIFIED:20250905T225423Z
URL:https://www.dependency.uni-bonn.de/en/events/joseph-c-miller-memorial-
 lecture-by-roy-flechne
END:VEVENT
BEGIN:VTIMEZONE
TZID:Europe/Berlin
X-LIC-LOCATION:Europe/Berlin
BEGIN:STANDARD
DTSTART:20231029T020000
TZNAME:CET
TZOFFSETFROM:+0200
TZOFFSETTO:+0100
END:STANDARD
END:VTIMEZONE
END:VCALENDAR
