BEGIN:VCALENDAR
VERSION:2.0
PRODID:-//Plone.org//NONSGML plone.app.event//EN
X-WR-TIMEZONE:Europe/Berlin
BEGIN:VEVENT
SUMMARY:Joseph C. Miller Memorial Lecture by Yolanda Pierce
DTSTART;TZID=Europe/Berlin:20250519T161500
DTEND;TZID=Europe/Berlin:20250519T174500
DTSTAMP:20260422T180127Z
UID:de5e0dc3db8944d3a023efeefa0f3de8@www.dependency.uni-bonn.de
CATEGORIES:JCMML,Events,Lectures
CREATED:20250408T092452Z
DESCRIPTION:What do we do with the wounds of a people and a nation? Like t
 he doubting disciple who longed to touch Jesus's side\, we must confront w
 ounds\, understanding their stories and the healing they signal. How does 
 Black theology help us interpret the legacy of the Middle Passage\, the GI
  Bill benefits denied to Black veterans\, or the plight of shackled Black 
 women inmates giving birth? Through Black theology and a womanist lens\, t
 his lecture explores why memory is crucial for healing and justice.
LAST-MODIFIED:20250905T225435Z
URL:https://www.dependency.uni-bonn.de/en/events/joseph-c-miller-memorial-
 lecture-by-yolanda-pierce
END:VEVENT
BEGIN:VTIMEZONE
TZID:Europe/Berlin
X-LIC-LOCATION:Europe/Berlin
BEGIN:DAYLIGHT
DTSTART:20250330T030000
TZNAME:CEST
TZOFFSETFROM:+0100
TZOFFSETTO:+0200
END:DAYLIGHT
END:VTIMEZONE
END:VCALENDAR
