BEGIN:VCALENDAR
VERSION:2.0
PRODID:-//Plone.org//NONSGML plone.app.event//EN
X-WR-TIMEZONE:Europe/Berlin
BEGIN:VEVENT
SUMMARY:Longue Durée Approaches to the Global Plantation Complex
DTSTART;TZID=Europe/Berlin:20251120T100000
DTEND;TZID=Europe/Berlin:20251120T183000
DTSTAMP:20260421T233147Z
UID:4c505903a6ef408a9615b3c2cb5744e1@www.dependency.uni-bonn.de
CATEGORIES:Events,Workshop
CREATED:20251031T102050Z
DESCRIPTION:Hybrid Workshop:\n \nWhat can we learn by rethinking plantatio
 ns beyond the Atlantic world?\nFrom the seventeenth to nineteenth centurie
 s\, plantations in the Caribbean\, South America\, and the U.S. South shap
 ed the Atlantic economy and influenced extractive systems worldwide. While
  the fall of Caribbean slave-based regimes and their links to modern commo
 dity frontiers are well known\, this workshop revisits the origins\, struc
 tures\, and global implications of plantation systems. In this coming hybr
 id workshop\, early-career scholars will join established researchers in m
 oderated panel discussions designed to spark productive\, in-depth dialogu
 e.
LAST-MODIFIED:20251114T093712Z
URL:https://www.dependency.uni-bonn.de/en/events/longue-duree-approaches-t
 o-the-global-plantation-complex
END:VEVENT
BEGIN:VTIMEZONE
TZID:Europe/Berlin
X-LIC-LOCATION:Europe/Berlin
BEGIN:STANDARD
DTSTART:20251026T020000
TZNAME:CET
TZOFFSETFROM:+0200
TZOFFSETTO:+0100
END:STANDARD
END:VTIMEZONE
END:VCALENDAR
