BEGIN:VCALENDAR
VERSION:2.0
PRODID:-//Plone.org//NONSGML plone.app.event//EN
X-WR-TIMEZONE:Europe/Berlin
BEGIN:VEVENT
SUMMARY:Panel Discussion: German Colonialism and its First Genocide
DTSTART;TZID=Europe/Berlin:20260311T180000
DTEND;TZID=Europe/Berlin:20260311T193000
DTSTAMP:20260419T231700Z
UID:b53056ed634c40f48e61aa557687334b@www.dependency.uni-bonn.de
CATEGORIES:Events,Event,Panel Discussion
CREATED:20260225T085414Z
DESCRIPTION:The event is being held in cooperation with the Academy for In
 ternational Affairs NRW and the Bonn Center for Reconciliation Studies.\n\
 nAs Europe rethinks its foreign policy amidst shifting global political re
 lations\, one question remains central: Can cooperation succeed without co
 nfronting colonial history? This panel takes Germany’s first genocide of
  the 20th century in Namibia as a starting point to explore how colonial l
 egacies continue to shape today’s global crises\, from geopolitics and i
 nequality to diplomacy and democracy. What does the “past in the present
 ” mean for justice claims and Europe’s future role in the world?\n\nWi
 th experts Henning Melber\, Katharina Hacker\, and Julia Manek\, moderated
  by Heloise Weber\, the discussion will connect postcolonial perspectives 
 with today’s political challenges\, including the rise of authoritarian 
 populism as well as transnational efforts aimed at building relations of s
 olidarity and ‘just repair’.
LAST-MODIFIED:20260225T085446Z
URL:https://www.dependency.uni-bonn.de/en/events/panel-discussion-german-c
 olonialism-and-its-first-genocide
END:VEVENT
BEGIN:VTIMEZONE
TZID:Europe/Berlin
X-LIC-LOCATION:Europe/Berlin
BEGIN:STANDARD
DTSTART:20251026T020000
TZNAME:CET
TZOFFSETFROM:+0200
TZOFFSETTO:+0100
END:STANDARD
END:VTIMEZONE
END:VCALENDAR
