BEGIN:VCALENDAR
VERSION:2.0
PRODID:-//Plone.org//NONSGML plone.app.event//EN
X-WR-TIMEZONE:Europe/Berlin
BEGIN:VEVENT
SUMMARY:Prof. Dr. Michael Zeuske to present in an upcoming conference
DTSTART;TZID=Europe/Berlin:20230927T160000
DTEND;TZID=Europe/Berlin:20230930T123000
DTSTAMP:20260424T073853Z
UID:2d853ea5570d4cb8b367add15191d9e5@www.dependency.uni-bonn.de
CREATED:20230915T082903Z
DESCRIPTION:Prof. Dr. Michael Zeuske presents "A Global Historical Perspec
 tive on Slavery: Analyzing Capitalism\, Labor\, and Slavery in Cuba (Cienf
 uegos 1870-1920)" at the conference "Slavery and Asymmetrical Dependency i
 n Cienfuegos' Global Labor History (1870-1900)" in Cuba\, jointly organize
 d by BCDSS and Provincial Committee UNEAC Cienfuegos.\n\nThe event\, title
 d "Slavery and Asymmetrical Dependency in the Global History of Labor: Cie
 nfuegos 1870-1900"\, runs from September 27th to 30th\, 2023\, at UNEAC. I
 t explores the historical context of slavery and asymmetric dependency in 
 Cienfuegos' global labor history from 1870 to 1900. Topics encompass Cienf
 uegos' significance in global slavery\, individuals like Tomas Terry Adams
 \, coffee plantation development\, Cuba's slavery history\, and social and
  cultural aspects\, including visits to historical sites. Conducted in Spa
 nish and English.
LAST-MODIFIED:20250905T225423Z
URL:https://www.dependency.uni-bonn.de/en/events/prof-dr-michael-zeuske-to
 -present-in-an-upcoming-conference
END:VEVENT
BEGIN:VTIMEZONE
TZID:Europe/Berlin
X-LIC-LOCATION:Europe/Berlin
BEGIN:DAYLIGHT
DTSTART:20230326T030000
TZNAME:CEST
TZOFFSETFROM:+0100
TZOFFSETTO:+0200
END:DAYLIGHT
END:VTIMEZONE
END:VCALENDAR
