BEGIN:VCALENDAR
VERSION:2.0
PRODID:-//Plone.org//NONSGML plone.app.event//EN
X-WR-TIMEZONE:Europe/Berlin
BEGIN:VEVENT
SUMMARY:Screening & Discussion of the Documentary “Midwives”
DTSTART;TZID=Europe/Berlin:20240307T163000
DTEND;TZID=Europe/Berlin:20240307T193000
DTSTAMP:20260424T104445Z
UID:9e6b961a4a704a5f87fc7cbba8e8bea8@www.dependency.uni-bonn.de
CREATED:20240304T103921Z
DESCRIPTION:The Screening & Discussion of the Documentary “Midwives” i
 s part of a two-day event series marking International Women’s Day 2024.
 \n"Midwives"\, the award-winning documentary by Myanmar film maker Snow Hn
 in Ei Hlaing is set in the aftermath of the 2017 violent ethnic conflicts 
 between the (Buddhist) Myanmar military and the (Muslim) Rohingya minority
  in the Rakhine state of Western Myanmar. \nThe story follows the fortunes
  of a Rakhine Buddhist Woman and founder of a rural antenatal clinic and h
 er Muslim Rohingya apprentice. The film delivers a nuanced portrait in whi
 ch the clinic acts as a microcosm of contemporary Myanmar. With an eye tow
 ard peace and reconciliation\, the film reveals how categorical markers of
  social difference\, including ethnicity\, religion and gender\, contribut
 e to forming and perpetuating dependency relations. \n\nThe discussion wil
 l explore these intersectional dependencies.
LAST-MODIFIED:20250905T225424Z
URL:https://www.dependency.uni-bonn.de/en/events/screening-discussion-of-t
 he-documentary-201cmidwives201d
END:VEVENT
BEGIN:VTIMEZONE
TZID:Europe/Berlin
X-LIC-LOCATION:Europe/Berlin
BEGIN:STANDARD
DTSTART:20231029T020000
TZNAME:CET
TZOFFSETFROM:+0200
TZOFFSETTO:+0100
END:STANDARD
END:VTIMEZONE
END:VCALENDAR
