BEGIN:VCALENDAR
VERSION:2.0
PRODID:-//Plone.org//NONSGML plone.app.event//EN
X-WR-TIMEZONE:Europe/Berlin
BEGIN:VEVENT
SUMMARY:Viola Müller to attend the Kinderuni!
DTSTART;TZID=Europe/Berlin:20230213T170000
DTEND;TZID=Europe/Berlin:20230213T180000
DTSTAMP:20260420T082901Z
UID:1957f7ca14104756b6982b2ff0fbbbe9@www.dependency.uni-bonn.de
CATEGORIES:Event,Lectures
CREATED:20230123T105712Z
DESCRIPTION:On February 13\, 2023\, Dr. Viola Müller will represent the B
 CDSS at the Kinderuni\, where she will give a lecture on the History of Su
 gar. \n\nAbstract:\nSugar is in chocolate\, cola\, gummy bears\, and adult
 s use it to sweeten their coffee. It also hides in yogurt\, tomato sauce\,
  and chips. Sugar is everywhere. But has it always been around? Where does
  it come from? Did it always look the same? Who made it in the past\, and 
 who is making it today?\nDive into the history of sugar!
LAST-MODIFIED:20250905T225419Z
URL:https://www.dependency.uni-bonn.de/en/events/viola-muller-to-attend-th
 e-kinderuni-event
END:VEVENT
BEGIN:VTIMEZONE
TZID:Europe/Berlin
X-LIC-LOCATION:Europe/Berlin
BEGIN:STANDARD
DTSTART:20221030T020000
TZNAME:CET
TZOFFSETFROM:+0200
TZOFFSETTO:+0100
END:STANDARD
END:VTIMEZONE
END:VCALENDAR
