BEGIN:VCALENDAR
VERSION:2.0
PRODID:-//Plone.org//NONSGML plone.app.event//EN
X-WR-TIMEZONE:Europe/Berlin
BEGIN:VEVENT
SUMMARY:Workshop: Archives and Museums Born in the Empires
DTSTART;TZID=Europe/Berlin:20240507T090000
DTEND;TZID=Europe/Berlin:20240508T173000
DTSTAMP:20260420T092704Z
UID:119efcc2b3e3498cac659d10b8a62817@www.dependency.uni-bonn.de
CATEGORIES:Workshop,Event
CREATED:20240419T122438Z
DESCRIPTION:The BCDSS invites all interested to this Bilingual Internation
 al Colloquium. Participants will discuss the multiple ways in which writte
 n\, visual\, audiovisual archives and\, of course\, art that emanate from 
 the contexts of imperial\, slave and colonial expansion\, can not only be 
 the object of postcolonial litigation\, both academically and politically\
 , but they are also\, paradoxically\, devices for the construction of new 
 dialogues between academia\, society and the State and its public policies
  in order to imagine actions built collectively with communities\, public 
 and private sectors\, through the use of archives as exceptional primary s
 ources for the study of African\, African American\, Latin American\, Asia
 n and African societies even European ones for the sake of their significa
 tion\, appreciation and dissemination.
LAST-MODIFIED:20250905T225425Z
URL:https://www.dependency.uni-bonn.de/en/events/workshop-archives-and-mus
 eums-born-in-the-empires
END:VEVENT
BEGIN:VTIMEZONE
TZID:Europe/Berlin
X-LIC-LOCATION:Europe/Berlin
BEGIN:DAYLIGHT
DTSTART:20240331T030000
TZNAME:CEST
TZOFFSETFROM:+0100
TZOFFSETTO:+0200
END:DAYLIGHT
END:VTIMEZONE
END:VCALENDAR
