BEGIN:VCALENDAR
VERSION:2.0
PRODID:-//Plone.org//NONSGML plone.app.event//EN
X-WR-TIMEZONE:Europe/Berlin
BEGIN:VEVENT
SUMMARY:Zivilisationen Vergehen\, Abfälle Bestehen
DTSTART;TZID=Europe/Berlin:20240430T181500
DTEND;TZID=Europe/Berlin:20240430T194500
DTSTAMP:20260422T003450Z
UID:e57e9242f2eb483299eed5c51a72e945@www.dependency.uni-bonn.de
CATEGORIES:Event
CREATED:20240423T122449Z
DESCRIPTION:"Der Müll bleibt.\nMüssen wir wirklich unaufhörlich natürl
 iche Ressourcen in Konsumgüter umwandeln\, die dann schnell entsorgt werd
 en\, um Platz für neue Produkte zu schaffen?"\n\nWir freuen uns\, Prof. U
 lbe Bosma vom International Institute of Social History in Amsterdam wiede
 r bei uns in Bonn begrüßen zu dürfen\, nachdem er im letzten Jahr einig
 e Monate bei uns am BCDSS zu Gast war. Alle sind herzlich willkommen. Eint
 ritt ist frei! \n\nBitte melden Sie sich über den Link zur VHS Bonn an (s
 iehe unten).\n\nDer Vortrag findet auf Deutsch statt.
LAST-MODIFIED:20250905T225425Z
URL:https://www.dependency.uni-bonn.de/en/events/zivilisationen-vergehen-a
 bfalle-bestehen
END:VEVENT
BEGIN:VTIMEZONE
TZID:Europe/Berlin
X-LIC-LOCATION:Europe/Berlin
BEGIN:DAYLIGHT
DTSTART:20240331T030000
TZNAME:CEST
TZOFFSETFROM:+0100
TZOFFSETTO:+0200
END:DAYLIGHT
END:VTIMEZONE
END:VCALENDAR
