BEGIN:VCALENDAR
VERSION:2.0
PRODID:-//Plone.org//NONSGML plone.app.event//EN
X-WR-TIMEZONE:Europe/Berlin
BEGIN:VEVENT
SUMMARY:Joseph C. Miller Memorial Lecture by Benjamin Selwyn
DTSTART;TZID=Europe/Berlin:20260518T161500
DTEND;TZID=Europe/Berlin:20260518T174500
DTSTAMP:20260425T021605Z
UID:a240f2b0781c400c95c65eee26c77b87@www.dependency.uni-bonn.de
CATEGORIES:Event,JCMML,Lectures
CREATED:20260421T091300Z
DESCRIPTION:Is it true that Global Value Chains (GVCs) 'boost incomes\, cr
 eate better jobs\, and reduce \npoverty'\, as commonly claimed? In this up
 coming lecture Benjamin Selwyn will discuss his \nnew book\, co-authored w
 ith Christin Bernhold\, which challenges this mainstream view by \nintrodu
 cing the concept of Capitalist Value Chains (CVCs).
LAST-MODIFIED:20260421T091445Z
URL:https://www.dependency.uni-bonn.de/en/joseph-c-miller-memorial-lecture
 -by-benjamin-selwyn
END:VEVENT
BEGIN:VTIMEZONE
TZID:Europe/Berlin
X-LIC-LOCATION:Europe/Berlin
BEGIN:DAYLIGHT
DTSTART:20260329T030000
TZNAME:CEST
TZOFFSETFROM:+0100
TZOFFSETTO:+0200
END:DAYLIGHT
END:VTIMEZONE
END:VCALENDAR
