BEGIN:VCALENDAR
VERSION:2.0
PRODID:-//Plone.org//NONSGML plone.app.event//EN
X-WR-TIMEZONE:Europe/Berlin
BEGIN:VEVENT
SUMMARY:Guest Lecture Holger Droessler
DTSTART;TZID=Europe/Berlin:20211130T180000
DTEND;TZID=Europe/Berlin:20211130T200000
DTSTAMP:20260424T104847Z
UID:1f749dffd56144cfb83eec5e3723af02@www.dependency.uni-bonn.de
CREATED:20211101T141548Z
DESCRIPTION:On Tuesday 30. November Holger Droessler\, who is Assistant Pr
 ofessor of History at Worcester Polytechnic Institute\, will present his n
 ew book "Coconut Colonialism Workers and the Globalization of Samoa". This
  event is a cooperation between the BCDSS\, the Cluster Initiative “ConT
 rust: Trust in Conflict – Political Life under Conditions of Uncertainty
 ” and the American Studies Department at Goethe University Frankfurt.
LAST-MODIFIED:20250905T225302Z
URL:https://www.dependency.uni-bonn.de/en/outreach/events/american-studies
 -research-colloquium-guest-lectures
END:VEVENT
BEGIN:VTIMEZONE
TZID:Europe/Berlin
X-LIC-LOCATION:Europe/Berlin
BEGIN:STANDARD
DTSTART:20211031T020000
TZNAME:CET
TZOFFSETFROM:+0200
TZOFFSETTO:+0100
END:STANDARD
END:VTIMEZONE
END:VCALENDAR
