BEGIN:VCALENDAR
VERSION:2.0
PRODID:-//Plone.org//NONSGML plone.app.event//EN
X-WR-TIMEZONE:Europe/Berlin
BEGIN:VEVENT
SUMMARY:Annual Conference "Embodied Dependencies"
DTSTART;VALUE=DATE:20210922
DTEND;VALUE=DATE:20210924
DTSTAMP:20260422T174354Z
UID:8b21afea469543b2a5c9825a172c1f39@www.dependency.uni-bonn.de
CATEGORIES:Conference,Past
CREATED:20210804T083726Z
DESCRIPTION:The conference “Embodied Dependencies” of Research Area B 
 intends to approach the material evidence of asymmetrical dependencies by 
 examining “embodied dependencies” in human societies from archaeologic
 al\, art-historical and anthropological perspectives\, exploring their his
 torical breadth and variety. The conference will help to establish an inve
 ntory of material evidence of asymmetrical dependencies and its range of e
 xpression and information as an important site of asymmetrical dependencie
 s next to the written word. Taking into consideration the “material turn
 ” as well as recent debates on environmental history and bio-history\, t
 he conference also aims to relativize the modern/Western focus on written 
 culture from a pre-colonial perspective. Hence the conference will be orga
 nized along four thematic panels: \nBodies\, Representations\, Resources\,
  and Spaces.\n\nPlease note: The full program will be available shortly.
LAST-MODIFIED:20250905T225258Z
URL:https://www.dependency.uni-bonn.de/en/outreach/events/annual-conferenc
 e-embodied-dependencies
END:VEVENT
END:VCALENDAR
