BEGIN:VCALENDAR
VERSION:2.0
PRODID:-//Plone.org//NONSGML plone.app.event//EN
X-WR-TIMEZONE:Europe/Berlin
BEGIN:VEVENT
SUMMARY:Book Launch - The Abolitionist Civil War
DTSTART;TZID=Europe/Berlin:20231115T210000
DTEND;TZID=Europe/Berlin:20231115T220000
DTSTAMP:20260423T134056Z
UID:63950eac3782489394e00409fa14618b@www.dependency.uni-bonn.de
CATEGORIES:Event,Book Launch
CREATED:20231110T124123Z
DESCRIPTION:Join the Facebook Live discussion and Q&A featuring the former
  BCDSS Bonn-Yale-Anton-Wilhelm-Amo-Fellow Dr. Frank J. Cirillo and his new
  LSU Press book\, "The Abolitionist Civil War: Immediatists and the Strugg
 le to Transform the Union."\nThe presentation will take place from 2–2:3
 0pm\, followed by a 10-minute Q&A.
LAST-MODIFIED:20250905T225409Z
URL:https://www.dependency.uni-bonn.de/en/outreach/events/book-launch-the-
 abolitionist-civil-war
END:VEVENT
BEGIN:VTIMEZONE
TZID:Europe/Berlin
X-LIC-LOCATION:Europe/Berlin
BEGIN:STANDARD
DTSTART:20231029T020000
TZNAME:CET
TZOFFSETFROM:+0200
TZOFFSETTO:+0100
END:STANDARD
END:VTIMEZONE
END:VCALENDAR
