BEGIN:VCALENDAR
VERSION:2.0
PRODID:-//Plone.org//NONSGML plone.app.event//EN
X-WR-TIMEZONE:Europe/Berlin
BEGIN:VEVENT
SUMMARY:Book Launch: Trevor Burnard & Damian Pargas
DTSTART;TZID=Europe/Berlin:20231031T160000
DTEND;TZID=Europe/Berlin:20231031T173000
DTSTAMP:20260423T140444Z
UID:1a2a2dedab0141759a4efa6cbf8e07ac@www.dependency.uni-bonn.de
CATEGORIES:Event,Book Launch
CREATED:20231012T090034Z
DESCRIPTION:We are very pleased that Trevor Burnard and Damian Pargas have
  offered to present and discuss their new books with us!\n\nTrevor Burnard
 \, Writing the History of Global Slavery (Cambridge Elements\, Cambridge U
 niversity Press)\, forthcoming (November 2023) \n\nDamian Pargas (ed.\, to
 gether with Juliane Schiel)\, The Palgrave Handbook of Global Slavery thro
 ughout History (Palgrave MacMillan)\, June 2023 \n\nThe discussion is mode
 rated by BCDSS postdoctoral researcher Viola Müller and is followed by a 
 reception.
LAST-MODIFIED:20250905T225408Z
URL:https://www.dependency.uni-bonn.de/en/outreach/events/book-launch-trev
 or-burnard-damian-pargas
END:VEVENT
BEGIN:VTIMEZONE
TZID:Europe/Berlin
X-LIC-LOCATION:Europe/Berlin
BEGIN:STANDARD
DTSTART:20231029T020000
TZNAME:CET
TZOFFSETFROM:+0200
TZOFFSETTO:+0100
END:STANDARD
END:VTIMEZONE
END:VCALENDAR
