BEGIN:VCALENDAR
VERSION:2.0
PRODID:-//Plone.org//NONSGML plone.app.event//EN
X-WR-TIMEZONE:Europe/Berlin
BEGIN:VEVENT
SUMMARY:Public Lecture Series: Control\, Coercion\, and Constraint
DTSTART;TZID=Europe/Berlin:20211109T181500
DTEND;TZID=Europe/Berlin:20211109T194500
DTSTAMP:20260420T020752Z
UID:79f3104425824940ade0f7064bd19f9e@www.dependency.uni-bonn.de
CREATED:20210930T112036Z
DESCRIPTION:Interested in "The Servant and the Servants of God in the Old 
 Testament"? Then join us at our new lectures series. During the winter sem
 ester 2021/2022 and the summer semester 2022\, a lectures series organized
  by the Centre for Religion and Society (ZERG) and the Bonn Center for Dep
 endency and Slavery Studies (BCDSS\; Research Area C) will explore the que
 stion of the role of religion in both overcoming existing and creating new
  forms and types of dependencies. The lectures series will take place on T
 uesdays at 18:15 hrs (Hörsaal X in the Hauptgebäude). It is planned as a
  hybrid event which is to be delivered in Bonn before an audience and simu
 ltaneously streamed via youtube (links to the livestreams coming soon).
LAST-MODIFIED:20250905T225301Z
URL:https://www.dependency.uni-bonn.de/en/outreach/events/copy2_of_public-
 lecture-serie
END:VEVENT
BEGIN:VTIMEZONE
TZID:Europe/Berlin
X-LIC-LOCATION:Europe/Berlin
BEGIN:STANDARD
DTSTART:20211031T020000
TZNAME:CET
TZOFFSETFROM:+0200
TZOFFSETTO:+0100
END:STANDARD
END:VTIMEZONE
END:VCALENDAR
