BEGIN:VCALENDAR
VERSION:2.0
PRODID:-//Plone.org//NONSGML plone.app.event//EN
X-WR-TIMEZONE:Europe/Berlin
BEGIN:VEVENT
SUMMARY:Public Lecture Series: Control\, Coercion\, and Constraint
DTSTART;TZID=Europe/Berlin:20211102T181500
DTEND;TZID=Europe/Berlin:20211102T194500
DTSTAMP:20260423T083150Z
UID:da257a3f4939468b841e223fabba6e17@www.dependency.uni-bonn.de
CREATED:20210930T112036Z
DESCRIPTION:Interested in "Simple but Sacral: Tracing the Sinaitic He-trib
 e and the Origin of ‘our’ Alphabet 4000 Years ago"? Then join us at ou
 r new lectures series. During the winter semester 2021/2022 and the summer
  semester 2022\, a lectures series organized by the Centre for Religion an
 d Society (ZERG) and the Bonn Center for Dependency and Slavery Studies (B
 CDSS\; Research Area C) will explore the question of the role of religion 
 in both overcoming existing and creating new forms and types of dependenci
 es. The lectures series will take place on Tuesdays at 18:15 hrs (Hörsaal
  X in the Hauptgebäude). It is planned as a hybrid event which is to be d
 elivered in Bonn before an audience and simultaneously streamed via youtub
 e (links to the livestreams coming soon).
LAST-MODIFIED:20250905T225301Z
URL:https://www.dependency.uni-bonn.de/en/outreach/events/copy_of_public-l
 ecture-serie-1
END:VEVENT
BEGIN:VTIMEZONE
TZID:Europe/Berlin
X-LIC-LOCATION:Europe/Berlin
BEGIN:STANDARD
DTSTART:20211031T020000
TZNAME:CET
TZOFFSETFROM:+0200
TZOFFSETTO:+0100
END:STANDARD
END:VTIMEZONE
END:VCALENDAR
