BEGIN:VCALENDAR
VERSION:2.0
PRODID:-//Plone.org//NONSGML plone.app.event//EN
X-WR-TIMEZONE:Europe/Berlin
BEGIN:VEVENT
SUMMARY:Digital Humanities on Slavery
DTSTART;TZID=Europe/Berlin:20210630T160000
DTEND;TZID=Europe/Berlin:20210630T180000
DTSTAMP:20260419T165444Z
UID:9f584464b6294f49b30d146412d337a1@www.dependency.uni-bonn.de
CREATED:20210703T113519Z
DESCRIPTION:As part of the activities of the Bonn Center for Dependency an
 d Slavery Studies (BCDSS) of the University of Bonn\, in collaboration wit
 h the European research program SLAFNET and the Center for Research on Sla
 very and Indenture Studies (CRSI) of the University of Mauritius\, we are 
 organizing a workshop on digital humanities on slavery.
LAST-MODIFIED:20221222T134909Z
URL:https://www.dependency.uni-bonn.de/en/outreach/events/digital-humaniti
 es-on-slavery
END:VEVENT
BEGIN:VTIMEZONE
TZID:Europe/Berlin
X-LIC-LOCATION:Europe/Berlin
BEGIN:DAYLIGHT
DTSTART:20210328T030000
TZNAME:CEST
TZOFFSETFROM:+0100
TZOFFSETTO:+0200
END:DAYLIGHT
END:VTIMEZONE
END:VCALENDAR
