BEGIN:VCALENDAR
VERSION:2.0
PRODID:-//Plone.org//NONSGML plone.app.event//EN
X-WR-TIMEZONE:Europe/Berlin
BEGIN:VEVENT
SUMMARY:Friday Seminar with Cristina Mocanu
DTSTART;TZID=Europe/Berlin:20230127T160000
DTEND;TZID=Europe/Berlin:20230127T173000
DTSTAMP:20260423T072912Z
UID:b440b2504a9d4b3ea3b57a971bd1cc63@www.dependency.uni-bonn.de
CREATED:20230123T135646Z
DESCRIPTION:This week\, Cristina Mocanu will present her project “Produc
 tive and Reproductive Labor of Roma Slaves in Moldavia (before 1830s)”. 
 She will explain how these types of labor influenced the slave condition a
 nd the owner-slave relationship\, as well as how all this differed accordi
 ng to the categories into which the Roma slaves were divided: slaves of th
 e crown\, monasteries\, and nobles. Using documents from the 18th and earl
 y 19th centuries\, in which words were different or had a different meanin
 g\, Cristina raises the question of how current scholars should relate to 
 the language of the era.\n\nTo register\, please drop an email entitled "F
 riday Fellows Seminar" with your name and the date of the seminar to Laura
  Hartmann.
LAST-MODIFIED:20250905T225355Z
URL:https://www.dependency.uni-bonn.de/en/outreach/events/friday-seminar-w
 ith-cristina-mocanu
END:VEVENT
BEGIN:VTIMEZONE
TZID:Europe/Berlin
X-LIC-LOCATION:Europe/Berlin
BEGIN:STANDARD
DTSTART:20221030T020000
TZNAME:CET
TZOFFSETFROM:+0200
TZOFFSETTO:+0100
END:STANDARD
END:VTIMEZONE
END:VCALENDAR
