BEGIN:VCALENDAR
VERSION:2.0
PRODID:-//Plone.org//NONSGML plone.app.event//EN
X-WR-TIMEZONE:Europe/Berlin
BEGIN:VEVENT
SUMMARY:Friday Seminar with Hillary Taylor
DTSTART;TZID=Europe/Berlin:20230310T160000
DTEND;TZID=Europe/Berlin:20230310T173000
DTSTAMP:20260421T223132Z
UID:1f31d8660d7044d3b9e856e08d59f4d0@www.dependency.uni-bonn.de
CATEGORIES:Event,Seminar
CREATED:20230213T140122Z
DESCRIPTION:For this week's Friday Seminar\, Heinrich Heinen Kolleg Fellow
  Hillary Taylor discusses her project “Violence at Work in Early Modern 
 Britain and its Overseas Territories”.\n\nThis presentation will conside
 r violence and labour discipline in Britain and the British Atlantic\, c. 
 1550-1800. Among other topics\, it will examine ‘employers’ commentari
 es on the relative utility of using violence to manage and discipline work
 ers\; how various categories of workers responded to such violence\; and h
 ow the legal system mediated these aspects of labour relations.
LAST-MODIFIED:20250905T225356Z
URL:https://www.dependency.uni-bonn.de/en/outreach/events/friday-seminar-w
 ith-hillary-taylor
END:VEVENT
BEGIN:VTIMEZONE
TZID:Europe/Berlin
X-LIC-LOCATION:Europe/Berlin
BEGIN:STANDARD
DTSTART:20221030T020000
TZNAME:CET
TZOFFSETFROM:+0200
TZOFFSETTO:+0100
END:STANDARD
END:VTIMEZONE
END:VCALENDAR
