BEGIN:VCALENDAR
VERSION:2.0
PRODID:-//Plone.org//NONSGML plone.app.event//EN
X-WR-TIMEZONE:Europe/Berlin
BEGIN:VEVENT
SUMMARY:Friday Seminar with Justin Roberts
DTSTART;TZID=Europe/Berlin:20230714T160000
DTEND;TZID=Europe/Berlin:20230714T173000
DTSTAMP:20260425T185851Z
UID:0d6f3e6bad11456ab8a8364328e3284a@www.dependency.uni-bonn.de
CATEGORIES:Event,Seminar
CREATED:20230710T141010Z
DESCRIPTION:This week\, our fellow Justin Roberts is looking forward to a 
 lively discussion of and feedback on his project “Fragile Empire: Slaver
 y in the Early English Tropics\, 1645-1720.” \n\nAs a framework\, the gl
 obal tropics offers us a new way of thinking about the origins of slavery 
 in the English empire. The English took advantage of a wide variety of bon
 dage systems to support their commercial and territorial expansion in the 
 global tropics. By the 1680s\, one variant of racial slavery had outcompet
 ed other forms of bondage within the empire. It was marked by its permanen
 ce\, its heritability\, its impermeable boundaries\, and its distinct brut
 ality. It was associated with the tropical zone. The dominance of this gen
 us of bondage shaped the ongoing threats of insurrection and invasion in E
 ngland’s expanding tropical empire.
LAST-MODIFIED:20250905T225403Z
URL:https://www.dependency.uni-bonn.de/en/outreach/events/friday-seminar-w
 ith-justin-roberts
END:VEVENT
BEGIN:VTIMEZONE
TZID:Europe/Berlin
X-LIC-LOCATION:Europe/Berlin
BEGIN:DAYLIGHT
DTSTART:20230326T030000
TZNAME:CEST
TZOFFSETFROM:+0100
TZOFFSETTO:+0200
END:DAYLIGHT
END:VTIMEZONE
END:VCALENDAR
