BEGIN:VCALENDAR
VERSION:2.0
PRODID:-//Plone.org//NONSGML plone.app.event//EN
X-WR-TIMEZONE:Europe/Berlin
BEGIN:VEVENT
SUMMARY:Friday Seminar with Özden Mercan
DTSTART;TZID=Europe/Berlin:20230203T160000
DTEND;TZID=Europe/Berlin:20230203T173000
DTSTAMP:20260425T181245Z
UID:54ce1b5096d44e169a395dada206877c@www.dependency.uni-bonn.de
CREATED:20230130T122747Z
DESCRIPTION:This week\, Özden Mercan is looking forward to a lively discu
 ssion of and feedback on her project on premodern Mediterranean forms of u
 nfree labor and its spatial dimensions through the case study of Tuscan fr
 ee port Livorno. Housing a significant number of slaves\, mainly of Turkis
 h and Moorish origin\, Livorno’s bagno was the first such construction i
 n Europe\, enabling slaves to perform various sorts of labors within its w
 alls as well as outside it. Özden will focus on these slaves as laborers 
 and trace their role in transferring certain skills and practices by focus
 ing on the spaces that generated a dense network of knowledge transfer and
  circulation of information in which slaves also took active part.\n\nTo r
 egister\, please drop an email entitled "Friday Fellows Seminar" with your
  name and the date of the seminar to Laura Hartmann.
LAST-MODIFIED:20250905T225355Z
URL:https://www.dependency.uni-bonn.de/en/outreach/events/friday-seminar-w
 ith-ozden-mercan
END:VEVENT
BEGIN:VTIMEZONE
TZID:Europe/Berlin
X-LIC-LOCATION:Europe/Berlin
BEGIN:STANDARD
DTSTART:20221030T020000
TZNAME:CET
TZOFFSETFROM:+0200
TZOFFSETTO:+0100
END:STANDARD
END:VTIMEZONE
END:VCALENDAR
