BEGIN:VCALENDAR
VERSION:2.0
PRODID:-//Plone.org//NONSGML plone.app.event//EN
X-WR-TIMEZONE:Europe/Berlin
BEGIN:VEVENT
SUMMARY:Friday Seminar with Raquel Sirotti
DTSTART;TZID=Europe/Berlin:20230428T160000
DTEND;TZID=Europe/Berlin:20230428T173000
DTSTAMP:20260422T002425Z
UID:8596c0a171a44815abc30c581f45d8f6@www.dependency.uni-bonn.de
CATEGORIES:Event,Seminar
CREATED:20230403T123946Z
DESCRIPTION:This week\, Raquel R. Sirotti\, BCDSS research group leader an
 d postdoctoral researcher at the Max Planck Institute for Legal History an
 d Legal Theory in Frankfurt\, Germany\, discusses her project "Mutual Depe
 ndencies and Normative Production in Africa." \n\nThe presentation will ap
 proach the concept of mutual dependencies and argue that it can be a usefu
 l tool for understanding the production of law in colonial contexts. Using
  as examples the case studies developed in the junior research group Mutua
 l Dependencies and Normative Production in Africa\, I will suggest that th
 e interaction\, recognition\, and even creation of local intermediaries by
  colonial agents implied mutual transformations of traditional and state a
 uthorities. The actions of these individuals not only contributed to the c
 onstruction of hybrid models of colonial rule in Africa\, but also shaped 
 the regulation of indigenous labour exploitation and the mechanisms of pun
 ishment and social control of local populations.
LAST-MODIFIED:20250905T225357Z
URL:https://www.dependency.uni-bonn.de/en/outreach/events/friday-seminar-w
 ith-raquel-sirotti
END:VEVENT
BEGIN:VTIMEZONE
TZID:Europe/Berlin
X-LIC-LOCATION:Europe/Berlin
BEGIN:DAYLIGHT
DTSTART:20230326T030000
TZNAME:CEST
TZOFFSETFROM:+0100
TZOFFSETTO:+0200
END:DAYLIGHT
END:VTIMEZONE
END:VCALENDAR
