BEGIN:VCALENDAR
VERSION:2.0
PRODID:-//Plone.org//NONSGML plone.app.event//EN
X-WR-TIMEZONE:Europe/Berlin
BEGIN:VEVENT
SUMMARY:Friday Seminar with Sara Eriksson
DTSTART;TZID=Europe/Berlin:20230224T160000
DTEND;TZID=Europe/Berlin:20230224T173000
DTSTAMP:20260425T195315Z
UID:efd7ce8a727a46e8a80589b122225d1e@www.dependency.uni-bonn.de
CATEGORIES:Event,Seminar
CREATED:20230213T135643Z
DESCRIPTION:This time\, PhD Guest Researcher (University of California\, B
 erkeley) Sara Eriksson will present her research project "The Average Pers
 on – Looking for Enslaved Labor at Hellenistic Kalaureia".
LAST-MODIFIED:20250905T225355Z
URL:https://www.dependency.uni-bonn.de/en/outreach/events/friday-seminar-w
 ith-sara-eriksson
END:VEVENT
BEGIN:VTIMEZONE
TZID:Europe/Berlin
X-LIC-LOCATION:Europe/Berlin
BEGIN:STANDARD
DTSTART:20221030T020000
TZNAME:CET
TZOFFSETFROM:+0200
TZOFFSETTO:+0100
END:STANDARD
END:VTIMEZONE
END:VCALENDAR
