BEGIN:VCALENDAR
VERSION:2.0
PRODID:-//Plone.org//NONSGML plone.app.event//EN
X-WR-TIMEZONE:Europe/Berlin
BEGIN:VEVENT
SUMMARY:Friday Seminar with Thiago Sapede
DTSTART;TZID=Europe/Berlin:20230721T130000
DTEND;TZID=Europe/Berlin:20230721T143000
DTSTAMP:20260420T132247Z
UID:adc0988639fc47f2a622c84e468f8fbf@www.dependency.uni-bonn.de
CATEGORIES:Event,Seminar
CREATED:20230713T174012Z
DESCRIPTION:This week\, our fellow Thiago Sapede is looking forward to a l
 ively discussion of and feedback on his project "The muleke (“Church sla
 ves”) in the 18th and 19th Centuries Kingdom of Kongo”.\n\nThis presen
 tation analyzes the complex role and status of the mulekes (“Church slav
 es”) in 18th and 19th century Kingdom of Kongo. The mulekes played a pro
 minent role in Kongo catholic missions\, working in the catholic convents 
 in mbanzas (towns) and following European missionaries to the voyages thro
 ughout the country.  These characters will reveal interesting clues to Cen
 tral African forms of slavery and their intersection with European-colonia
 l forms of dependency.\n\nPS: Please note that the seminar will be from 13
 :00 - 14:30 CET instead of the usual 16:00 - 17:30 CET. Please make sure t
 o adjust your schedule accordingly.
LAST-MODIFIED:20250905T225403Z
URL:https://www.dependency.uni-bonn.de/en/outreach/events/friday-seminar-w
 ith-thiage-sapede
END:VEVENT
BEGIN:VTIMEZONE
TZID:Europe/Berlin
X-LIC-LOCATION:Europe/Berlin
BEGIN:DAYLIGHT
DTSTART:20230326T030000
TZNAME:CEST
TZOFFSETFROM:+0100
TZOFFSETTO:+0200
END:DAYLIGHT
END:VTIMEZONE
END:VCALENDAR
