BEGIN:VCALENDAR
VERSION:2.0
PRODID:-//Plone.org//NONSGML plone.app.event//EN
X-WR-TIMEZONE:Europe/Berlin
BEGIN:VEVENT
SUMMARY:Iris Därmann: Reading and Discussion (in German)
DTSTART;TZID=Europe/Berlin:20220704T181500
DTEND;TZID=Europe/Berlin:20220704T210000
DTSTAMP:20260422T095859Z
UID:f981c1a266c641f5a7275ec7da96c809@www.dependency.uni-bonn.de
CREATED:20220531T210630Z
DESCRIPTION:On Monday\, 4 July 2022\, cultural studies and philosophy scho
 lar IRIS DÄRMANN\, Professor of Cultural Theory & Cultural Aesthetics at 
 Humboldt University Berlin\, will present passages from her book "Undienli
 chkeit\, Gewaltgeschichte und Politische Philosophie" (Matthes und Seitz B
 erlin 2020).\nFollowing the reading\, two representatives of Bonn Universi
 ty\, BIRGIT MÜNCH (BCDSS Investigator\, Professor of Art History and Vice
  Rector for International Affairs) and CHRISTOPH ANTWEILER (Professor of S
 outheast Asian Studies and BCDSS Principal Investigator) will question Iri
 s Därmann on her view of the history of violence. KONRAD VÖSSING\, Profe
 ssor of Ancient History and BCDSS Co-Speaker\, will lead through the discu
 ssion. The audience is very welcome to participate. Knowledge of the book 
 is not a prerequisite! The reading will be followed by a reception from 7:
 30pm.To secure a place please register by email (with your name and email 
 address) to LESUNG@DEPENDENCY.UNI-BONN.DE
LAST-MODIFIED:20250905T225311Z
URL:https://www.dependency.uni-bonn.de/en/outreach/events/iris-darmann-rea
 ding-and-discussion-in-german
END:VEVENT
BEGIN:VTIMEZONE
TZID:Europe/Berlin
X-LIC-LOCATION:Europe/Berlin
BEGIN:DAYLIGHT
DTSTART:20220327T030000
TZNAME:CEST
TZOFFSETFROM:+0100
TZOFFSETTO:+0200
END:DAYLIGHT
END:VTIMEZONE
END:VCALENDAR
