BEGIN:VCALENDAR
VERSION:2.0
PRODID:-//Plone.org//NONSGML plone.app.event//EN
X-WR-TIMEZONE:Europe/Berlin
BEGIN:VEVENT
SUMMARY:Joseph C. Miller Lecture by Kate Cooper
DTSTART;TZID=Europe/Berlin:20231211T161500
DTEND;TZID=Europe/Berlin:20231211T180000
DTSTAMP:20260422T013754Z
UID:80984ae682da4699a9dbbf1370afffc5@www.dependency.uni-bonn.de
CATEGORIES:Event,JCMML,Lectures
CREATED:20231122T125557Z
DESCRIPTION:How does Augustine's Confessions reveal the often-overlooked l
 ives of women\, children\, and the enslaved in fourth-century Roman Africa
 \, shedding light on their agency amid societal constraints?
LAST-MODIFIED:20250905T225412Z
URL:https://www.dependency.uni-bonn.de/en/outreach/events/joseph-c-miller-
 lecture-by-kate-cooper
END:VEVENT
BEGIN:VTIMEZONE
TZID:Europe/Berlin
X-LIC-LOCATION:Europe/Berlin
BEGIN:STANDARD
DTSTART:20231029T020000
TZNAME:CET
TZOFFSETFROM:+0200
TZOFFSETTO:+0100
END:STANDARD
END:VTIMEZONE
END:VCALENDAR
