BEGIN:VCALENDAR
VERSION:2.0
PRODID:-//Plone.org//NONSGML plone.app.event//EN
X-WR-TIMEZONE:Europe/Berlin
BEGIN:VEVENT
SUMMARY:Joseph C. Miller Memorial Lecture by Peter Gemeinhardt
DTSTART;TZID=Europe/Berlin:20220328T161500
DTEND;TZID=Europe/Berlin:20220328T180000
DTSTAMP:20260426T035122Z
UID:f0069f8a07294298819e661fb9c3102c@www.dependency.uni-bonn.de
CATEGORIES:JCMML,Past
CREATED:20220110T152852Z
DESCRIPTION:What has education to do with dependency? In a famous letter\,
  Jerome (d. 419) narrates that\, in a dream vision\, he was called before 
 Christ and accused of still using ”pagan“ education: ”You are not a 
 Christian but a Ciceronian!“ Why hadn’t Jerome got rid of this heritag
 e? The lecture approaches Christianity and classical (grammatical\, rhetor
 ical\, philosophical) education from a praxeological point of view: while 
 theologians claimed that Christianity should not use such education\, Chri
 stian life depended on practices of reading\, writing\, and speaking. Was 
 such dependency on previous tradition and practice of tradition really ine
 vitable? Did Christianity not get rid of paideia\, or did it consciously p
 ut it to good use? Struggling with such\ndependency contributed to a thoro
 ugh transformation of classical education and enabled Christianity to surv
 ive the dramatic changes of its surrounding world.
LAST-MODIFIED:20250905T225303Z
URL:https://www.dependency.uni-bonn.de/en/outreach/events/joseph-c-miller-
 memorial-lecture-by-peter-gemeinhardt
END:VEVENT
BEGIN:VTIMEZONE
TZID:Europe/Berlin
X-LIC-LOCATION:Europe/Berlin
BEGIN:DAYLIGHT
DTSTART:20220327T030000
TZNAME:CEST
TZOFFSETFROM:+0100
TZOFFSETTO:+0200
END:DAYLIGHT
END:VTIMEZONE
END:VCALENDAR
