BEGIN:VCALENDAR
VERSION:2.0
PRODID:-//Plone.org//NONSGML plone.app.event//EN
X-WR-TIMEZONE:Europe/Berlin
BEGIN:VEVENT
SUMMARY:Joseph C. Miller Memorial Lecture by Thomas Pierson
DTSTART;TZID=Europe/Berlin:20220704T161500
DTEND;TZID=Europe/Berlin:20220704T181500
DTSTAMP:20260423T131842Z
UID:d7eb7a2b4c4344c28edf3456325782d4@www.dependency.uni-bonn.de
CATEGORIES:JCMML,Past
CREATED:20220504T084832Z
DESCRIPTION:Public servants are not ordinary employees. Their relationship
  to the modern state is special. According to prevailing opinion\, this sp
 ecial relation influences rights and duties in the public employment relat
 ionship. On an analytical level\, it is interesting to see what answers th
 e questions about legal asymmetries and interdependencies reveal about thi
 s problem\, and conversely\, whether the object of investigation can broad
 en and change the perspectives of the questions associated with the concep
 t. For this purpose\, we will attempt a stroll through the history of civi
 l service in the context of state-building\, which will examine the partic
 ular problems of different epochs more closely. The lecture will show that
  the narrative of a development from unfree labour to free wage labour can
  also be refuted in the European context\, at least for the public service
  sector.
LAST-MODIFIED:20250905T225309Z
URL:https://www.dependency.uni-bonn.de/en/outreach/events/joseph-c-miller-
 memorial-lecture-by-thomas-pierson
END:VEVENT
BEGIN:VTIMEZONE
TZID:Europe/Berlin
X-LIC-LOCATION:Europe/Berlin
BEGIN:DAYLIGHT
DTSTART:20220327T030000
TZNAME:CEST
TZOFFSETFROM:+0100
TZOFFSETTO:+0200
END:DAYLIGHT
END:VTIMEZONE
END:VCALENDAR
