BEGIN:VCALENDAR
VERSION:2.0
PRODID:-//Plone.org//NONSGML plone.app.event//EN
X-WR-TIMEZONE:Europe/Berlin
BEGIN:VEVENT
SUMMARY:Joseph C. Miller Memorial Lecture by Christopher Paolella
DTSTART;TZID=Europe/Berlin:20231106T161500
DTEND;TZID=Europe/Berlin:20231106T180000
DTSTAMP:20260422T052638Z
UID:fc2f309822e541668e20d65f2b43a476@www.dependency.uni-bonn.de
CATEGORIES:Event,JCMML,Lectures
CREATED:20231023T122754Z
DESCRIPTION:What are the historical and socioeconomic factors that have co
 ntributed to the emergence and perpetuation of human trafficking and the c
 ommercial sex industry\, and how do these factors connect to the late-medi
 eval world and modern society?\n\nToday\, poverty and corruption are frequ
 ently cited as major underlying causes of modern slavery and human traffic
 king. However\, these issues are not exclusive to modern society\; they ha
 ve deep historical roots transcending borders\, cultures\, and economic sy
 stems. Human trafficking networks thrived in the late-medieval world\, usi
 ng tactics like kidnapping\, abduction\, familial pressure\, and predatory
  employment to exploit vulnerable women and girls in various industries\, 
 including food service\, textiles\, and domestic work
LAST-MODIFIED:20250905T225408Z
URL:https://www.dependency.uni-bonn.de/en/outreach/events/joseph-c-miller-
 memorial-lecture-by
END:VEVENT
BEGIN:VTIMEZONE
TZID:Europe/Berlin
X-LIC-LOCATION:Europe/Berlin
BEGIN:STANDARD
DTSTART:20231029T020000
TZNAME:CET
TZOFFSETFROM:+0200
TZOFFSETTO:+0100
END:STANDARD
END:VTIMEZONE
END:VCALENDAR
