BEGIN:VCALENDAR
VERSION:2.0
PRODID:-//Plone.org//NONSGML plone.app.event//EN
X-WR-TIMEZONE:Europe/Berlin
BEGIN:VEVENT
SUMMARY:Local Dependencies Global Routes
DTSTART;TZID=Europe/Berlin:20220602T140000
DTEND;TZID=Europe/Berlin:20220602T180000
DTSTAMP:20260419T193745Z
UID:95f422ecb85b48ff9bcbee7ed996152f@www.dependency.uni-bonn.de
CREATED:20220531T102817Z
DESCRIPTION:This Workshop is part of Research Area C\, which explores form
 s of asymmetrical dependency produced at the crossroads of conflicting ins
 titutions\, norms\, and practices. The aim of the workshop is to reflect o
 n how alternative routes define forms of dependency\, and how forms of dep
 endency determine the types of routes. This workshop will specifically loo
 k into context and contextualization\, trading places and\, thus\, on enta
 nglements and – so to say – “levels” of dependency and their defin
 ition. We can look on the agency of the people involved\, both traders and
  trafficked\, explaining in part local social relations of asymmetrical de
 pendency. Slave routes continue to be understood and conceptionalized prim
 arily as transatlantic or trans-Saharan.
LAST-MODIFIED:20221222T134912Z
URL:https://www.dependency.uni-bonn.de/en/outreach/events/local-dependenci
 es-global-routes
END:VEVENT
BEGIN:VTIMEZONE
TZID:Europe/Berlin
X-LIC-LOCATION:Europe/Berlin
BEGIN:DAYLIGHT
DTSTART:20220327T030000
TZNAME:CEST
TZOFFSETFROM:+0100
TZOFFSETTO:+0200
END:DAYLIGHT
END:VTIMEZONE
END:VCALENDAR
