BEGIN:VCALENDAR
VERSION:2.0
PRODID:-//Plone.org//NONSGML plone.app.event//EN
X-WR-TIMEZONE:Europe/Berlin
BEGIN:VEVENT
SUMMARY:Lunch Talk “Beyond Slavery and Freedom”
DTSTART;TZID=Europe/Berlin:20240911T120000
DTEND;TZID=Europe/Berlin:20240911T140000
DTSTAMP:20260424T045538Z
UID:2d3826f9c7c14bac999f18014859f3b3@www.dependency.uni-bonn.de
CATEGORIES:Event,Events
CREATED:20240902T135129Z
DESCRIPTION:We cordially invite you to join us for a Special Issue Lunch T
 alk with the editors Pia Wiegmink and Jutta Wimmler and authors of the Spe
 cial Issue “Beyond Slavery and Freedom\,” published a few weeks ago in
  the Journal of Global Slavery. It also features work by Sinah Kloß\, Ric
 ardo Márquez García\, Christian Schwermann\, Elena Smolarz & Julia Winne
 beck.\n\nThe Special Issue demonstrates the variety of research done at th
 e cluster. This will be an informal event to discuss openly the content of
  the contributions\, the different approaches to the topic\, and the overa
 ll framing and we are particularly interested in hearing how other BCDSS r
 esearchers rethink the binary slavery/freedom in their work.\n\nThe introd
 uction to the Special Issue is freely available\, but you can also access 
 the individual contributions from within the university network/via VPN. h
 ttps://brill.com/view/journals/jgs/9/1-2/jgs.9.issue-1-2.xml
LAST-MODIFIED:20250905T225415Z
URL:https://www.dependency.uni-bonn.de/en/outreach/events/lunch-talk-201cb
 eyond-slavery-and-freedom201d
END:VEVENT
BEGIN:VTIMEZONE
TZID:Europe/Berlin
X-LIC-LOCATION:Europe/Berlin
BEGIN:DAYLIGHT
DTSTART:20240331T030000
TZNAME:CEST
TZOFFSETFROM:+0100
TZOFFSETTO:+0200
END:DAYLIGHT
END:VTIMEZONE
END:VCALENDAR
