BEGIN:VCALENDAR
VERSION:2.0
PRODID:-//Plone.org//NONSGML plone.app.event//EN
X-WR-TIMEZONE:Europe/Berlin
BEGIN:VEVENT
SUMMARY:Narratives of Dependency
DTSTART;TZID=Europe/Berlin:20210715T090000
DTEND;TZID=Europe/Berlin:20210716T180000
DTSTAMP:20260425T200013Z
UID:69a6573d16ea4d5180605e2814e4e499@www.dependency.uni-bonn.de
CREATED:20210703T111442Z
DESCRIPTION:The workshop seeks to explore the potential as well as the lim
 its of textual sources within approaches to a (comparative) analysis of th
 ese structures. Fictional and non-fictional narratives across different te
 xt types and genres provide insights into the experience of asymmetrical d
 ependency\, into justifications drawn upon to maintain asymmetrical depend
 ency as well as into attempts to abolish or modify these structures. In th
 e workshop on “Narratives of Dependency” scholars from a wide range of
  disciplines – including Literary Studies\, Egyptology\, Theology\, Amer
 ican Studies and Anthropology as well as Ancient\, Eastern European and Ot
 toman History – discuss narratives addressing asymmetrical dependency in
  terms of their contexts\, structures and potential functions.
LAST-MODIFIED:20221222T134909Z
URL:https://www.dependency.uni-bonn.de/en/outreach/events/narratives-of-de
 pendency
END:VEVENT
BEGIN:VTIMEZONE
TZID:Europe/Berlin
X-LIC-LOCATION:Europe/Berlin
BEGIN:DAYLIGHT
DTSTART:20210328T030000
TZNAME:CEST
TZOFFSETFROM:+0100
TZOFFSETTO:+0200
END:DAYLIGHT
END:VTIMEZONE
END:VCALENDAR
