BEGIN:VCALENDAR
VERSION:2.0
PRODID:-//Plone.org//NONSGML plone.app.event//EN
X-WR-TIMEZONE:Europe/Berlin
BEGIN:VEVENT
SUMMARY:Open Hour Online Dies Academicus
DTSTART;TZID=Europe/Berlin:20211201T140000
DTEND;TZID=Europe/Berlin:20211201T153000
DTSTAMP:20260422T214558Z
UID:343b576cee184ef499f04e5577c38a57@www.dependency.uni-bonn.de
CREATED:20211124T115639Z
DESCRIPTION:On December 1st\, 2021 the Bonn Center for Dependency and Slav
 ery Studies will introduce the MA programs “Dependency and Slavery Studi
 es” and “Slavery Studies” at the online Dies Academicus of the Unive
 rsity of Bonn.
LAST-MODIFIED:20250905T225302Z
URL:https://www.dependency.uni-bonn.de/en/outreach/events/open-hour-online
 -dies-academicus
END:VEVENT
BEGIN:VTIMEZONE
TZID:Europe/Berlin
X-LIC-LOCATION:Europe/Berlin
BEGIN:STANDARD
DTSTART:20211031T020000
TZNAME:CET
TZOFFSETFROM:+0200
TZOFFSETTO:+0100
END:STANDARD
END:VTIMEZONE
END:VCALENDAR
