BEGIN:VCALENDAR
VERSION:2.0
PRODID:-//Plone.org//NONSGML plone.app.event//EN
X-WR-TIMEZONE:Europe/Berlin
BEGIN:VEVENT
SUMMARY:Panel discussion "Colonial traces in Bonn"
DTSTART;TZID=Europe/Berlin:20230712T180000
DTEND;TZID=Europe/Berlin:20230712T193000
DTSTAMP:20260422T183121Z
UID:6c175effd9514f488ada943763a23438@www.dependency.uni-bonn.de
CATEGORIES:Event,Discussion
CREATED:20230703T125331Z
DESCRIPTION:Join the panel discussion "Colonial Traces in Bonn - the Long 
 Road to a New Culture of Remembrance?" organized by Fernuni Hagen. Prof. D
 r. Stephan Conermann will be speaking on behalf of the BCDSS and Universit
 y of Bonn.  The event will be held in German.\n\nWhat is colonial in the c
 ity of Bonn? Which traces can still be found today\, how are they dealt wi
 th in society\, politics\, media and research? Especially recently\, civil
  society\, the university and municipal institutions have formulated more 
 advanced approaches and debates that challenge familiar images of history.
  Does this only add to the generally known urban history or does it lay a 
 completely new\, postcolonial foundation for an inclusive culture of memor
 y?\n\nPlease register by July 11\, 2023 at: campus.bonn@fernuni-hagen.de
LAST-MODIFIED:20250905T225400Z
URL:https://www.dependency.uni-bonn.de/en/outreach/events/panel-discussion
 -colonial-traces-in-bonn
END:VEVENT
BEGIN:VTIMEZONE
TZID:Europe/Berlin
X-LIC-LOCATION:Europe/Berlin
BEGIN:DAYLIGHT
DTSTART:20230326T030000
TZNAME:CEST
TZOFFSETFROM:+0100
TZOFFSETTO:+0200
END:DAYLIGHT
END:VTIMEZONE
END:VCALENDAR
