BEGIN:VCALENDAR
VERSION:2.0
PRODID:-//Plone.org//NONSGML plone.app.event//EN
X-WR-TIMEZONE:Europe/Berlin
BEGIN:VEVENT
SUMMARY:Public Lecture by Michael Zeuske
DTSTART;TZID=Europe/Berlin:20220531T181500
DTSTAMP:20260422T032216Z
UID:deab000fbb674913893a163bac4fd351@www.dependency.uni-bonn.de
CREATED:20220329T141854Z
DESCRIPTION:Michael Zeuske is principal investigator at the BCDSS and was 
 professor for Iberian and Latin American History at the University of Colo
 gne. Michael Zeuske focuses on different forms of dependency in the Atlant
 ic slavery (1450-1886)\, in the global history of slavery and in different
  local slaveries as well as slave trades on a micro-historical level  (lif
 e histories of enslaved people and slave traders). In his lecture he explo
 res "Slave Religions and Industrial Revolutions at the Times of Second Sla
 very (19th/20th Centuries)". His lecture is part of the public ZERG lectur
 e series\, organized by the Centre for Religion and Society (ZERG) and the
  BCDSS\, Research Area C: "Control\, Coercion\, and Constraint II. The Rol
 e of Religion in Overcoming and Creating Structures of Dependency". The le
 cture series tackles the role of religion in both overcoming existing and 
 creating new forms and types of dependencies. This is a hybrid event. The 
 lecture will also be streamed via youtube.
LAST-MODIFIED:20250905T225306Z
URL:https://www.dependency.uni-bonn.de/en/outreach/events/public-lecture-b
 y-michael-zeuske
END:VEVENT
BEGIN:VTIMEZONE
TZID:Europe/Berlin
X-LIC-LOCATION:Europe/Berlin
BEGIN:DAYLIGHT
DTSTART:20220327T030000
TZNAME:CEST
TZOFFSETFROM:+0100
TZOFFSETTO:+0200
END:DAYLIGHT
END:VTIMEZONE
END:VCALENDAR
