BEGIN:VCALENDAR
VERSION:2.0
PRODID:-//Plone.org//NONSGML plone.app.event//EN
X-WR-TIMEZONE:Europe/Berlin
BEGIN:VEVENT
SUMMARY:Public Lecture Series: Control\, Coercion\, and Constraint
DTSTART;TZID=Europe/Berlin:20211026T181500
DTEND;TZID=Europe/Berlin:20211026T194500
DTSTAMP:20260420T121338Z
UID:2da16f1203e24059a15ee8bbdb10cb7d@www.dependency.uni-bonn.de
CREATED:20210930T112036Z
DESCRIPTION:Interested in "Creating Dependency by Means of its Overcoming:
  A Case Study from the Rise of Tibetan Buddhism"?  Then join us at our new
  lectures series. During the winter semester 2021/2022 and the summer seme
 ster 2022\, a lectures series organized by the Centre for Religion and Soc
 iety (ZERG) and the Bonn Center for Dependency and Slavery Studies (BCDSS\
 ; Research Area C) will explore the question of the role of religion in bo
 th overcoming existing and creating new forms and types of dependencies. T
 he lectures series will take place on Tuesdays at 18:15 hrs (Hörsaal X in
  the Hauptgebäude). It is planned as a hybrid event which is to be delive
 red in Bonn before an audience and simultaneously streamed via youtube (li
 nks to the livestreams coming soon).
LAST-MODIFIED:20250905T225301Z
URL:https://www.dependency.uni-bonn.de/en/outreach/events/public-lecture-s
 erie-1
END:VEVENT
BEGIN:VTIMEZONE
TZID:Europe/Berlin
X-LIC-LOCATION:Europe/Berlin
BEGIN:DAYLIGHT
DTSTART:20210328T030000
TZNAME:CEST
TZOFFSETFROM:+0100
TZOFFSETTO:+0200
END:DAYLIGHT
END:VTIMEZONE
END:VCALENDAR
