BEGIN:VCALENDAR
VERSION:2.0
PRODID:-//Plone.org//NONSGML plone.app.event//EN
X-WR-TIMEZONE:Europe/Berlin
BEGIN:VEVENT
SUMMARY:Resource Extractivism and Environmental (In)justice
DTSTART;TZID=Europe/Berlin:20241105T180000
DTEND;TZID=Europe/Berlin:20241105T203000
DTSTAMP:20260425T215832Z
UID:ab10462e158047f598f508c25b1ee343@www.dependency.uni-bonn.de
CATEGORIES:Events
CREATED:20241014T073535Z
DESCRIPTION:This roundtable convenes experts from ZEF/Global Heritage Lab\
 , BICC and the BCDSS to discuss the historical and contemporary impacts of
  extractivism across a range of global contexts and natural resources. Cen
 tral questions to be discussed will entail the violent colonial origins of
  resource extraction\, current conflicts and consequences for local commun
 ities\, and possible ways into the future. Framed in a larger context of e
 nvironmental (in)justice\, and attending to matters of ethics\, sustainabi
 lity and dependency\, the discussants will bring to the table their respec
 tive disciplinary backgrounds\, spanning governance and conflict studies\,
  development politics\, the environmental humanities and dependency studie
 s.
LAST-MODIFIED:20250905T225416Z
URL:https://www.dependency.uni-bonn.de/en/outreach/events/resource-extract
 ivism-and-environmental-in-justice
END:VEVENT
BEGIN:VTIMEZONE
TZID:Europe/Berlin
X-LIC-LOCATION:Europe/Berlin
BEGIN:STANDARD
DTSTART:20241027T020000
TZNAME:CET
TZOFFSETFROM:+0200
TZOFFSETTO:+0100
END:STANDARD
END:VTIMEZONE
END:VCALENDAR
