BEGIN:VCALENDAR
VERSION:2.0
PRODID:-//Plone.org//NONSGML plone.app.event//EN
X-WR-TIMEZONE:Europe/Berlin
BEGIN:VEVENT
SUMMARY:Talk with Prof. Dr. Christian Laes
DTSTART;TZID=Europe/Berlin:20230613T160000
DTEND;TZID=Europe/Berlin:20230613T180000
DTSTAMP:20260425T234634Z
UID:3f0498a7f472440cb6df1393c84aad7d@www.dependency.uni-bonn.de
CREATED:20230530T131732Z
DESCRIPTION:BCDSS fellow Prof. Dr. Christian Laes will give a talk on "Vit
 a Aesopi: The Extraordinary Life of an  Enslaved Person in Antiquity. A So
 cio-Cultural Commentary on a Unique Novel" at the Centre for the Classical
  Tradition at the University of Bonn.
LAST-MODIFIED:20250905T225359Z
URL:https://www.dependency.uni-bonn.de/en/outreach/events/talk-with-prof-d
 r-christian-laes
END:VEVENT
BEGIN:VTIMEZONE
TZID:Europe/Berlin
X-LIC-LOCATION:Europe/Berlin
BEGIN:DAYLIGHT
DTSTART:20230326T030000
TZNAME:CEST
TZOFFSETFROM:+0100
TZOFFSETTO:+0200
END:DAYLIGHT
END:VTIMEZONE
END:VCALENDAR
