BEGIN:VCALENDAR
VERSION:2.0
PRODID:-//Plone.org//NONSGML plone.app.event//EN
X-WR-TIMEZONE:Europe/Berlin
BEGIN:VEVENT
SUMMARY:The Early Slave Trade
DTSTART;TZID=Europe/Berlin:20210906T160000
DTEND;TZID=Europe/Berlin:20210906T180000
DTSTAMP:20260420T051055Z
UID:66d2aab5c7264cb6aa6d07103a8c9f45@www.dependency.uni-bonn.de
CATEGORIES:JCMML,Past
CREATED:20210804T091052Z
DESCRIPTION:The next Joseph C. Miller Lecture Series on September 6\, 2021
 \, by David Wheat\, Michigan State University.
LAST-MODIFIED:20221222T134907Z
URL:https://www.dependency.uni-bonn.de/en/outreach/events/the-early-slave-
 trade
END:VEVENT
BEGIN:VTIMEZONE
TZID:Europe/Berlin
X-LIC-LOCATION:Europe/Berlin
BEGIN:DAYLIGHT
DTSTART:20210328T030000
TZNAME:CEST
TZOFFSETFROM:+0100
TZOFFSETTO:+0200
END:DAYLIGHT
END:VTIMEZONE
END:VCALENDAR
