BEGIN:VCALENDAR
VERSION:2.0
PRODID:-//Plone.org//NONSGML plone.app.event//EN
X-WR-TIMEZONE:Europe/Berlin
BEGIN:VEVENT
SUMMARY:Lecture by Bethany J. Walker and Alan Farahani
DTSTART;TZID=Europe/Berlin:20211209T160000
DTEND;TZID=Europe/Berlin:20211209T170000
DTSTAMP:20260420T180127Z
UID:801c23e27d414604a9e49574a75b3b74@www.dependency.uni-bonn.de
CREATED:20211129T114236Z
DESCRIPTION:The Ulrich Haarmann Memorial Lecture is a historical-science-b
 ased investigation of food preparation\, health\, and hygiene practices in
  the Syrian countryside. It presents for the first time the surprising res
 ults of fresh excavations in Jordan\, raising questions about rural kitche
 n culture\, mass migration\, and the nature of the Ayyubid-Mamluk transiti
 on.
LAST-MODIFIED:20250905T225303Z
URL:https://www.dependency.uni-bonn.de/en/outreach/events/ulrich-haarmann-
 memorial-lectures
END:VEVENT
BEGIN:VTIMEZONE
TZID:Europe/Berlin
X-LIC-LOCATION:Europe/Berlin
BEGIN:STANDARD
DTSTART:20211031T020000
TZNAME:CET
TZOFFSETFROM:+0200
TZOFFSETTO:+0100
END:STANDARD
END:VTIMEZONE
END:VCALENDAR
