BEGIN:VCALENDAR
VERSION:2.0
PRODID:-//Plone.org//NONSGML plone.app.event//EN
X-WR-TIMEZONE:Europe/Berlin
BEGIN:VEVENT
SUMMARY:Workshop: Labour that Heals the Soul
DTSTART;TZID=Europe/Berlin:20231012T100000
DTEND;TZID=Europe/Berlin:20231013T123000
DTSTAMP:20260421T021608Z
UID:6a739c5f18664cbd814f71d163880711@www.dependency.uni-bonn.de
CATEGORIES:Event,Workshop
CREATED:20230914T075015Z
DESCRIPTION:In the early modern period\, forced labour went hand in hand w
 ith imprisonment and had an inherent punitive logic: the publicly performe
 d labour of prisoners was supposed to have a deterrent effect and act prev
 entively\, similar to rituals of corporal punishment. In the context of th
 e centralisation of absolutist power for the "state of common good"\, a co
 mplementary view of the work of imprisoned delinquents emerged: it had to 
 be increasingly conveyed as a means of human improvement. The police objec
 tives were combined with the reformatory purposes. Work became the antithe
 sis of idleness\, and in the penitentiaries of Europe the convicts not onl
 y had to be made to work for fiscal purposes\, but the poor also had to be
  (re)educated to work.\n \nThe planned workshop brings together case studi
 es from different cultural contexts and will ask about the genealogy of th
 e discourse of labour and the possible transfers and retransfers of the co
 ncept of penal labour as a means of correction.
LAST-MODIFIED:20250905T225407Z
URL:https://www.dependency.uni-bonn.de/en/outreach/events/workshop-labour-
 that-heals-the-soul
END:VEVENT
BEGIN:VTIMEZONE
TZID:Europe/Berlin
X-LIC-LOCATION:Europe/Berlin
BEGIN:DAYLIGHT
DTSTART:20230326T030000
TZNAME:CEST
TZOFFSETFROM:+0100
TZOFFSETTO:+0200
END:DAYLIGHT
END:VTIMEZONE
END:VCALENDAR
