BEGIN:VCALENDAR
VERSION:2.0
PRODID:-//Plone.org//NONSGML plone.app.event//EN
X-WR-TIMEZONE:Europe/Berlin
BEGIN:VEVENT
SUMMARY:Slavery in Africa: Past\, Legacies and Present (SLAFCO)
DTSTART;TZID=Europe/Berlin:20220419T083000
DTEND;TZID=Europe/Berlin:20220421T180000
DTSTAMP:20260425T200315Z
UID:c2b30545f2f941b19d705c527a23dfce@www.dependency.uni-bonn.de
CREATED:20220413T101342Z
DESCRIPTION:Research on slavery in Africa has benefited from a clear dynam
 ism in recent years\, supported\, partly\, by international research progr
 ammes as well as by the publication of many works of reference. The histor
 ic importance of slavery in Africa\, its weight in the social relations ma
 intained by various sectors of society and in the construction of contempo
 rary nation states are well established. But these questions are often sen
 sitive and very contemporary.\n\nThe conference is intended to contribute 
 to this assessment of knowledge about slavery in Africa and to take stock 
 of the most recent significant scientific advances. By promoting interdisc
 iplinary scientific dialogue (history\, anthropology\, sociology\, museolo
 gy) and dialogue with civil society (through the attendance of anti-slaver
 y associations)\, the ambition here is to continue efforts to break down b
 arriers between the various regions of the African continent\, their histo
 riographies and their stakeholders.
LAST-MODIFIED:20250905T225026Z
URL:https://www.dependency.uni-bonn.de/en/outreach/news-bcdss/slafco-confe
 rence-2
END:VEVENT
BEGIN:VTIMEZONE
TZID:Europe/Berlin
X-LIC-LOCATION:Europe/Berlin
BEGIN:DAYLIGHT
DTSTART:20220327T030000
TZNAME:CEST
TZOFFSETFROM:+0100
TZOFFSETTO:+0200
END:DAYLIGHT
END:VTIMEZONE
END:VCALENDAR
