BEGIN:VCALENDAR
VERSION:2.0
PRODID:-//Plone.org//NONSGML plone.app.event//EN
X-WR-TIMEZONE:Europe/Berlin
BEGIN:VEVENT
SUMMARY:Slavery and Other Forms of Strong Asymmetrical Dependencies
DTSTART;TZID=Europe/Berlin:20220623T090000
DTEND;TZID=Europe/Berlin:20220623T173000
DTSTAMP:20260420T104746Z
UID:ea950d8ba29448e883a1eb3fcc169792@www.dependency.uni-bonn.de
CREATED:20220310T101913Z
DESCRIPTION:The workshop wants to analyze slavery and other forms of stron
 g asymmetrical dependencies in Ottoman South Eastern Europe. We look to th
 e Ottoman Empire from different angles and are thus interested not only in
  an Istanbul-centered perspective\, but also in studies concerning regiona
 l aspects in its European provinces and border-regions – from the Crimea
 n Khanate to Dalmatia\, from Hungary to Crete\, including connections with
  neighbouring regions
LAST-MODIFIED:20250905T225031Z
URL:https://www.dependency.uni-bonn.de/en/outreach/news-bcdss/workshop-1
END:VEVENT
BEGIN:VTIMEZONE
TZID:Europe/Berlin
X-LIC-LOCATION:Europe/Berlin
BEGIN:DAYLIGHT
DTSTART:20220327T030000
TZNAME:CEST
TZOFFSETFROM:+0100
TZOFFSETTO:+0200
END:DAYLIGHT
END:VTIMEZONE
END:VCALENDAR
